BEGIN:VCALENDAR
VERSION:2.0
PRODID:-//wp-events-plugin.com//7.2.3.1//EN
TZID:Europe/Paris
X-WR-TIMEZONE:Europe/Paris
BEGIN:VEVENT
UID:18@yolefilledeloire.fr
DTSTART;TZID=Europe/Paris;VALUE=DATE:20140829
DTEND;TZID=Europe/Paris;VALUE=DATE:20140901
DTSTAMP:20131215T131100Z
URL:https://www.yolefilledeloire.fr/events/trois-jours-de-lerdre/
SUMMARY:Trois jours de l'Erdre
DESCRIPTION:
CATEGORIES:Rassemblement
LOCATION:Nord-sur-Erdre\, Le port\, Nord sur Erdre\, France
GEO:47.4359002;-1.491613099999995
X-APPLE-STRUCTURED-LOCATION;VALUE=URI;X-ADDRESS=Le port\, Nord sur Erdre\, 
 France;X-APPLE-RADIUS=100;X-TITLE=Nord-sur-Erdre:geo:47.4359002,-1.4916130
 99999995
END:VEVENT
BEGIN:VTIMEZONE
TZID:Europe/Paris
X-LIC-LOCATION:Europe/Paris
BEGIN:DAYLIGHT
DTSTART:20140330T030000
TZOFFSETFROM:+0100
TZOFFSETTO:+0200
TZNAME:CEST
END:DAYLIGHT
END:VTIMEZONE
END:VCALENDAR