BEGIN:VCALENDAR
VERSION:2.0
PRODID:-//wp-events-plugin.com//7.2.3.1//EN
TZID:Europe/Paris
X-WR-TIMEZONE:Europe/Paris
BEGIN:VEVENT
UID:125@yolefilledeloire.fr
DTSTART;TZID=Europe/Paris;VALUE=DATE:20160910
DTEND;TZID=Europe/Paris;VALUE=DATE:20160912
DTSTAMP:20160730T141700Z
URL:https://www.yolefilledeloire.fr/events/regates-trentemoult/
SUMMARY:Régates Trentemoult
DESCRIPTION:
CATEGORIES:Rassemblement
LOCATION:Rezé\, rue codet\, Rezé\, 44400\, France
GEO:47.1930635;-1.5844819000000143
X-APPLE-STRUCTURED-LOCATION;VALUE=URI;X-ADDRESS=rue codet\, Rezé\, 44400\,
  France;X-APPLE-RADIUS=100;X-TITLE=Rezé:geo:47.1930635,-1.584481900000014
 3
END:VEVENT
BEGIN:VTIMEZONE
TZID:Europe/Paris
X-LIC-LOCATION:Europe/Paris
BEGIN:DAYLIGHT
DTSTART:20160327T030000
TZOFFSETFROM:+0100
TZOFFSETTO:+0200
TZNAME:CEST
END:DAYLIGHT
END:VTIMEZONE
END:VCALENDAR