BEGIN:VCALENDAR
VERSION:2.0
PRODID:-//wp-events-plugin.com//7.2.3.1//EN
TZID:Europe/Paris
X-WR-TIMEZONE:Europe/Paris
BEGIN:VEVENT
UID:21@yolefilledeloire.fr
DTSTART;TZID=Europe/Paris:20140427T110000
DTEND;TZID=Europe/Paris:20140427T170000
DTSTAMP:20140316T222254Z
URL:https://www.yolefilledeloire.fr/events/fetes-dancenis-2/
SUMMARY:Fêtes d'Ancenis
DESCRIPTION:
LOCATION:Ancenis\, quai de la marine\, Ancenis\, France
GEO:47.36466009999999;-1.1758480999999392
X-APPLE-STRUCTURED-LOCATION;VALUE=URI;X-ADDRESS=quai de la marine\, Ancenis
 \, France;X-APPLE-RADIUS=100;X-TITLE=Ancenis:geo:47.36466009999999,-1.1758
 480999999392
END:VEVENT
BEGIN:VTIMEZONE
TZID:Europe/Paris
X-LIC-LOCATION:Europe/Paris
BEGIN:DAYLIGHT
DTSTART:20140330T030000
TZOFFSETFROM:+0100
TZOFFSETTO:+0200
TZNAME:CEST
END:DAYLIGHT
END:VTIMEZONE
END:VCALENDAR