BEGIN:VCALENDAR
VERSION:2.0
PRODID:-//wp-events-plugin.com//7.2.3.1//EN
TZID:Europe/Paris
X-WR-TIMEZONE:Europe/Paris
BEGIN:VEVENT
UID:161@yolefilledeloire.fr
DTSTART;TZID=Europe/Paris;VALUE=DATE:20170714
DTEND;TZID=Europe/Paris;VALUE=DATE:20170715
DTSTAMP:20170109T231000Z
URL:https://www.yolefilledeloire.fr/events/fete-du-cellier/
SUMMARY:Fête du cellier
DESCRIPTION:
CATEGORIES:Rassemblement
LOCATION:Le Cellier\, port\, Le Cellier\, France
GEO:47.317739;-1.3468760000000657
X-APPLE-STRUCTURED-LOCATION;VALUE=URI;X-ADDRESS=port\, Le Cellier\, France;
 X-APPLE-RADIUS=100;X-TITLE=Le Cellier:geo:47.317739,-1.3468760000000657
END:VEVENT
BEGIN:VTIMEZONE
TZID:Europe/Paris
X-LIC-LOCATION:Europe/Paris
BEGIN:DAYLIGHT
DTSTART:20170326T030000
TZOFFSETFROM:+0100
TZOFFSETTO:+0200
TZNAME:CEST
END:DAYLIGHT
END:VTIMEZONE
END:VCALENDAR