BEGIN:VCALENDAR
VERSION:2.0
PRODID:-//wp-events-plugin.com//7.2.3.1//EN
TZID:Europe/Paris
X-WR-TIMEZONE:Europe/Paris
BEGIN:VEVENT
UID:101@yolefilledeloire.fr
DTSTART;TZID=Europe/Paris;VALUE=DATE:20160521
DTEND;TZID=Europe/Paris;VALUE=DATE:20160523
DTSTAMP:20160420T194216Z
URL:https://www.yolefilledeloire.fr/events/chalonne-sur-loire-le-grand-emb
 arquement/
SUMMARY:Chalonne sur Loire : le grand embarquement
DESCRIPTION:
CATEGORIES:Rassemblement
LOCATION:Challone sur Loire\, Le port\, Chalonne sur Loire\, France
GEO:47.3715793;-0.68446449999999
X-APPLE-STRUCTURED-LOCATION;VALUE=URI;X-ADDRESS=Le port\, Chalonne sur Loir
 e\, France;X-APPLE-RADIUS=100;X-TITLE=Challone sur Loire:geo:47.3715793,-0
 .68446449999999
END:VEVENT
BEGIN:VTIMEZONE
TZID:Europe/Paris
X-LIC-LOCATION:Europe/Paris
BEGIN:DAYLIGHT
DTSTART:20160327T030000
TZOFFSETFROM:+0100
TZOFFSETTO:+0200
TZNAME:CEST
END:DAYLIGHT
END:VTIMEZONE
END:VCALENDAR