BEGIN:VCALENDAR
VERSION:2.0
PRODID:-//wp-events-plugin.com//7.2.3.1//EN
TZID:Europe/Paris
X-WR-TIMEZONE:Europe/Paris
BEGIN:VEVENT
UID:182@yolefilledeloire.fr
DTSTART;TZID=Europe/Paris:20171209T140000
DTEND;TZID=Europe/Paris:20171209T180000
DTSTAMP:20171104T221844Z
URL:https://www.yolefilledeloire.fr/events/assemblee-generale-fva/
SUMMARY:Assemblée générale FVA
DESCRIPTION:
CATEGORIES:Voison de ponton
LOCATION:maison dela bretagne\, Paris\, 8 rue de l’arrivée\, Paris\, Fra
 nce
GEO:48.8437637;2.3221730999999863
X-APPLE-STRUCTURED-LOCATION;VALUE=URI;X-ADDRESS=8 rue de l’arrivée\, Par
 is\, France;X-APPLE-RADIUS=100;X-TITLE=maison dela bretagne\, Paris:geo:48
 .8437637,2.3221730999999863
END:VEVENT
BEGIN:VTIMEZONE
TZID:Europe/Paris
X-LIC-LOCATION:Europe/Paris
BEGIN:STANDARD
DTSTART:20171029T020000
TZOFFSETFROM:+0200
TZOFFSETTO:+0100
TZNAME:CET
END:STANDARD
END:VTIMEZONE
END:VCALENDAR