BEGIN:VCALENDAR
VERSION:2.0
PRODID:-//wp-events-plugin.com//7.2.3.1//EN
TZID:Europe/Paris
X-WR-TIMEZONE:Europe/Paris
BEGIN:VEVENT
UID:129@yolefilledeloire.fr
DTSTART;TZID=Europe/Paris:20161021T193000
DTEND;TZID=Europe/Paris:20161021T230000
DTSTAMP:20161008T164459Z
URL:https://www.yolefilledeloire.fr/events/assemblee-generale-2/
SUMMARY:Assemblée générale
DESCRIPTION:
CATEGORIES:Vie association
LOCATION:SI Varades\, CENTRE SOCIAL\, Varades\, France
GEO:47.385079;-1.029957999999965
X-APPLE-STRUCTURED-LOCATION;VALUE=URI;X-ADDRESS=CENTRE SOCIAL\, Varades\, F
 rance;X-APPLE-RADIUS=100;X-TITLE=SI Varades:geo:47.385079,-1.0299579999999
 65
END:VEVENT
BEGIN:VTIMEZONE
TZID:Europe/Paris
X-LIC-LOCATION:Europe/Paris
BEGIN:DAYLIGHT
DTSTART:20160327T030000
TZOFFSETFROM:+0100
TZOFFSETTO:+0200
TZNAME:CEST
END:DAYLIGHT
END:VTIMEZONE
END:VCALENDAR